BEGIN:VCALENDAR
VERSION:2.0
PRODID:-//wp-events-plugin.com//7.2.3.1//EN
TZID:Europe/Berlin
X-WR-TIMEZONE:Europe/Berlin
BEGIN:VEVENT
UID:875@ssv-reichenbach.de
DTSTART;TZID=Europe/Berlin:20230710T173000
DTEND;TZID=Europe/Berlin:20230710T190000
DTSTAMP:20230714T163912Z
URL:https://www.ssv-reichenbach.de/termine/c-jugend-training-5-2023-07-10/
SUMMARY:C-Jugend Training
DESCRIPTION:Ab der C-Jugend wird auf dem Großfeld mit 11 gegen 11 Spielern
  gespielt. Dies ist der nächste große Sprung. Durch zwei weitere Spieler
  sowie das größere Feld verändert sich vieles im Spiel. Besonders groß
  ist die Umstellung auf die normale Torgröße. Diese Herausforderung meis
 tern die Spielerinnen und Spieler jedoch sehr schnell. Nach ein paar Woche
 n Eingewöhnungszeit haben sie die neuen Abmaße verinnerlicht.\n\nWenn Du
  Lust hast Fußball zu spielen\, kannst Du einfach zum Training kommen und
  das Trainerteam ansprechen. Oder Du wendest Dich an unseren Jugendleiter\
 , gerne hier über unser Kontaktformular.
ATTACH;FMTTYPE=image/jpeg:https://www.ssv-reichenbach.de/wp-content/upload
 s/2022/11/JSG-LauBraWin-C-Jugend-11.jpg
CATEGORIES:Jugendfussball
LOCATION:Sportplatz der SG Lautern\, Jahnstraße 14\, Lautertal - Lautern\,
  64686\, Deutschland
X-APPLE-STRUCTURED-LOCATION;VALUE=URI;X-ADDRESS=Jahnstraße 14\, Lautertal 
 - Lautern\, 64686\, Deutschland;X-APPLE-RADIUS=100;X-TITLE=Sportplatz der 
 SG Lautern:geo:0,0
END:VEVENT
BEGIN:VTIMEZONE
TZID:Europe/Berlin
X-LIC-LOCATION:Europe/Berlin
BEGIN:DAYLIGHT
DTSTART:20230326T030000
TZOFFSETFROM:+0100
TZOFFSETTO:+0200
TZNAME:CEST
END:DAYLIGHT
END:VTIMEZONE
END:VCALENDAR