BEGIN:VCALENDAR
VERSION:2.0
PRODID:-//wp-events-plugin.com//7.2.3.1//EN
TZID:Europe/Berlin
X-WR-TIMEZONE:Europe/Berlin
BEGIN:VEVENT
UID:321@ssv-reichenbach.de
DTSTART;TZID=Europe/Berlin:20230118T191500
DTEND;TZID=Europe/Berlin:20230118T204500
DTSTAMP:20221113T205820Z
URL:https://www.ssv-reichenbach.de/termine/training-traditionsmannschaft-2
 -2023-01-18/
SUMMARY:Training Traditionsmannschaft
DESCRIPTION:\n\n\n\n\n\n\nAlte Herren\, Traditionsmannschaft oder # Die Dri
 tte: Egal wie Du uns nennst. In jedem Fall hast Du bei uns eine Menge Spa
 ß.  Hier treffen sich viele ehemals aktive Fußballer unserer Vereine\, 
 Freunde und Bekannte und halten sich im Training fit. Mindestens genauso l
 ang wie unsere 1\,5 stündigen Trainigseinheiten dauert in der Regel die 
 “Nachbesprechung”. Nicht die fußballerische Leistung\, sondern die Ge
 selligkeit und das gemeinsame Erlebnis stehen im Vordergrund.\n\n\n\n\n\n\
 n\n\n\n\n\n\n\n\nWenn Du Lust hast bei uns Fußball zu spielen\, kannst Du
  einfach zum Training kommen. Bei Fragen schreibe uns über das Kontaktfor
 mular.\n\n\n\n\n\n\n
ATTACH;FMTTYPE=image/jpeg:https://www.ssv-reichenbach.de/wp-content/upload
 s/2022/11/SG-Reichenbach-Traditionsmannschaft-Mannschaftsbild.jpg
CATEGORIES:Fussball
LOCATION:Sportplatz des TSV Reichenbach\, Nibelungenstraße 205A\, Lauterta
 l \, 64686\, Deutschland
X-APPLE-STRUCTURED-LOCATION;VALUE=URI;X-ADDRESS=Nibelungenstraße 205A\, La
 utertal \, 64686\, Deutschland;X-APPLE-RADIUS=100;X-TITLE=Sportplatz des T
 SV Reichenbach:geo:0,0
END:VEVENT
BEGIN:VTIMEZONE
TZID:Europe/Berlin
X-LIC-LOCATION:Europe/Berlin
BEGIN:STANDARD
DTSTART:20221030T020000
TZOFFSETFROM:+0200
TZOFFSETTO:+0100
TZNAME:CET
END:STANDARD
END:VTIMEZONE
END:VCALENDAR